Workbook

Sheet Sheet1
A1: Table 1: blanks | D1: Table 2: Defects of finished products
A2: defect counts | B2: N blanks | D2: rank by defect sensitivity | E2: product type | F2: defects on blanks scan | G2: defects converted | H2: defect raw-to-final convertion rate | I2: N products | J2: N products with blank hitback
A3: 0 | B3: 27 | D3: 1 | E3: A | F3: 165 | G3: 11 | H3: =G3/F3 -> 0.066666667 | I3: 60 | J3: 10.00002
A4: 1 | B4: 73 | D4: 2 | E4: B | F4: 236 | G4: 12 | H4: =G4/F4 -> 0.050847458 | I4: 59 | J4: 11.000019
A5: 2 | B5: 91 | D5: 3 | E5: C | F5: 91 | G5: 4 | H5: =G5/F5 -> 0.043956044 | I5: 31 | J5: 1.999996
A6: 3 | B6: 98 | D6: 4 | E6: D | F6: 172 | G6: 7 | H6: =G6/F6 -> 0.040697674 | I6: 45 | J6: 7.00002
A7: 4 | B7: 79 | D7: 5 | E7: E | F7: 115 | G7: 4 | H7: =G7/F7 -> 0.034782609 | I7: 30 | J7: 3.99999
A8: 5 | B8: 58 | D8: 6 | E8: F | F8: 270 | G8: 9 | H8: =G8/F8 -> 0.033333333 | I8: 71 | J8: 7.999996
A9: 6 | B9: 38 | D9: 7 | E9: G | F9: 62 | G9: 2 | H9: =G9/F9 -> 0.032258065 | I9: 18 | J9: 1.999998
A10: 7 | B10: 18 | D10: 8 | E10: H | F10: 127 | G10: 4 | H10: =G10/F10 -> 0.031496063 | I10: 41 | J10: 4.000001
A11: 8 | B11: 15 | D11: 9 | E11: I | F11: 49 | G11: 1 | H11: =G11/F11 -> 0.020408163 | I11: 18 | J11: 1.000008
A12: 9 | B12: 13 | D12: 10 | E12: J | F12: 106 | G12: 2 | H12: =G12/F12 -> 0.018867925 | I12: 30 | J12: 2.00001
A13: 10 | B13: 7 | D13: 11 | E13: K | F13: 161 | G13: 3 | H13: =G13/F13 -> 0.01863354 | I13: 39 | J13: 2.999997
A14: 11 | B14: 1 | D14: 12 | E14: L | F14: 60 | G14: 1 | H14: =G14/F14 -> 0.016666667 | I14: 12 | J14: 0.999996
... A16: 13 | B16: 4 | D16: 14 | E16: N | F16: 3 | G16: 0 | H16: =G16/F16 -> 0 | I16: 2 | J16: 0
D17: 15 | E17: O | F17: 9 | G17: 0 | H17: =G17/F17 -> 0 | I17: 3 | J17: 0
G19: total hit rate | H19: =SUM(J3:J17)/SUM(I3:I17) -> 0.1111112
G20: total converted defects | H20: =SUM(G3:G17) -> 63
G21: grand conversion rate | H21: =SUM(G3:G17)/SUM(F3:F17) -> 0.033528473
D23: Case 1: group 1=A, group 2=B to O
F24: defects on blanks scan | G24: defects at final scan | H24: average conversion rate | I24: N products
E25: group 1 | F25: =F3 -> 165 | G25: =G3 -> 11 | H25: =G25/F25 -> 0.066666667 | I25: =I3 -> 60
E26: group 2 | F26: =SUM(F4:F17) -> 1714 | G26: =SUM(G4:G17) -> 52 | H26: =G26/F26 -> 0.03033839 | I26: =SUM(I4:I17) -> 462
E29: defects on blank | F29: blanks available with this count | G29: blanks defects | H29: defects converted | I29: carry-over N for next row
D30: group 1 | E30: 0 | F30: 27 | G30: =E30*F30 -> 0 | H30: =G30*$H$25 -> 0 | I30: =I25-F30 -> 33
E31: 1 | F31: 33 | G31: =E31*F31 -> 33 | H31: =G31*$H$25 -> 2.2 | I31: =I30-F31 -> 0
D32: group2 | E32: 1 | F32: =73-F31 -> 40 | G32: =E32*F32 -> 40 | H32: =G32*$H$26 -> 1.2135356 | I32: =I26-F32 -> 422
E33: 2 | F33: 91 | G33: =E33*F33 -> 182 | H33: =G33*$H$26 -> 5.5215869 | I33: =I32-F33 -> 331
E34: 3 | F34: 98 | G34: =E34*F34 -> 294 | H34: =G34*$H$26 -> 8.9194866 | I34: =I33-F34 -> 233
E35: 4 | F35: 79 | G35: =E35*F35 -> 316 | H35: =G35*$H$26 -> 9.5869312 | I35: =I34-F35 -> 154
E36: 5 | F36: 58 | G36: =E36*F36 -> 290 | H36: =G36*$H$26 -> 8.798133 | I36: =I35-F36 -> 96
E37: 6 | F37: 38 | G37: =E37*F37 -> 228 | H37: =G37*$H$26 -> 6.9171529 | I37: =I36-F37 -> 58
E38: 7 | F38: 18 | G38: =E38*F38 -> 126 | H38: =G38*$H$26 -> 3.8226371 | I38: =I37-F38 -> 40
E39: 8 | F39: 15 | G39: =E39*F39 -> 120 | H39: =G39*$H$26 -> 3.6406068 | I39: =I38-F39 -> 25
E40: 9 | F40: 13 | G40: =E40*F40 -> 117 | H40: =G40*$H$26 -> 3.5495916 | I40: =I39-F40 -> 12
E41: 10 | F41: 7 | G41: =E41*F41 -> 70 | H41: =G41*$H$26 -> 2.1236873 | I41: =I40-F41 -> 5
E42: 11 | F42: 1 | G42: =E42*F42 -> 11 | H42: =G42*$H$26 -> 0.33372229 | I42: =I41-F42 -> 4
E43: 12 | F43: 0 | G43: =E43*F43 -> 0 | H43: =G43*$H$26 -> 0 | I43: =I42-F43 -> 4
E44: 13 | F44: 4 | G44: =E44*F44 -> 52 | H44: =G44*$H$26 -> 1.5775963 | I44: =I43-F44 -> 0
G46: predicted hit rate | H46: =SUM(H30:H44)/$H$20*$H$19 -> 0.10265382
...

Sheet 3-bin optimized
A1: group 1: A to B, group 2: C to H, group 3: I to O | H1: Table 1: blanks
C2: defects on blanks scan | D2: defects converted | E2: average conversion rate | F2: N products | H2: defect counts | I2: N blanks
B3: group 1 | C3: =SUM(Sheet1!F3:F4) -> 401 | D3: =SUM(Sheet1!G3:G4) -> 23 | E3: =D3/C3 -> 0.057356608 | F3: =SUM(Sheet1!I3:I4) -> 119 | H3: 0 | I3: 27
B4: group 2 | C4: =SUM(Sheet1!F5:F10) -> 837 | D4: =SUM(Sheet1!G5:G10) -> 30 | E4: =D4/C4 -> 0.035842294 | F4: =SUM(Sheet1!I5:I10) -> 236 | H4: 1 | I4: 73
B5: group 3 | C5: =SUM(Sheet1!F11:F17) -> 641 | D5: =SUM(Sheet1!G11:G17) -> 10 | E5: =D5/C5 -> 0.015600624 | F5: =SUM(Sheet1!I11:I17) -> 167 | H5: 2 | I5: 91
H6: 3 | I6: 98
B7: defects on blank | C7: blanks available with this count | D7: blanks defects | E7: defects converted | F7: carry-over N for next row | H7: 4 | I7: 79
A8: group 1 | B8: 0 | C8: 27 | D8: =B8*C8 -> 0 | E8: =D8*$E$3 -> 0 | F8: =F3-C8 -> 92 | H8: 5 | I8: 58
B9: 1 | C9: 73 | D9: =B9*C9 -> 73 | E9: =D9*$E$3 -> 4.1870324 | F9: =F8-C9 -> 19 | H9: 6 | I9: 38
B10: 2 | C10: 19 | D10: =B10*C10 -> 38 | E10: =D10*$E$3 -> 2.1795511 | F10: =F9-C10 -> 0 | H10: 7 | I10: 18
A11: group2 | B11: 2 | C11: =I5-C10 -> 72 | D11: =B11*C11 -> 144 | E11: =D11*$E$4 -> 5.1612903 | F11: =F4-C11 -> 164 | H11: 8 | I11: 15
B12: 3 | C12: 98 | D12: =B12*C12 -> 294 | E12: =D12*$E$4 -> 10.537634 | F12: =F11-C12 -> 66 | H12: 9 | I12: 13
B13: 4 | C13: 66 | D13: =B13*C13 -> 264 | E13: =D13*$E$4 -> 9.4623656 | F13: =F12-C13 -> 0 | H13: 10 | I13: 7
A14: group 3 | B14: 4 | C14: =I7-C13 -> 13 | D14: =B14*C14 -> 52 | E14: =D14*$E$5 -> 0.81123245 | F14: =F5-C14 -> 154 | H14: 11 | I14: 1
B15: 5 | C15: 58 | D15: =B15*C15 -> 290 | E15: =D15*$E$5 -> 4.524181 | F15: =F14-C15 -> 96 | H15: 12 | I15: 0
B16: 6 | C16: 38 | D16: =B16*C16 -> 228 | E16: =D16*$E$5 -> 3.5569423 | F16: =F15-C16 -> 58 | H16: 13 | I16: 4
B17: 7 | C17: 18 | D17: =B17*C17 -> 126 | E17: =D17*$E$5 -> 1.9656786 | F17: =F16-C17 -> 40
B18: 8 | C18: 15 | D18: =B18*C18 -> 120 | E18: =D18*$E$5 -> 1.8720749 | F18: =F17-C18 -> 25
B19: 9 | C19: 13 | D19: =B19*C19 -> 117 | E19: =D19*$E$5 -> 1.825273 | F19: =F18-C19 -> 12
B20: 10 | C20: 7 | D20: =B20*C20 -> 70 | E20: =D20*$E$5 -> 1.0920437 | F20: =F19-C20 -> 5
B21: 11 | C21: 1 | D21: =B21*C21 -> 11 | E21: =D21*$E$5 -> 0.17160686 | F21: =F20-C21 -> 4
B22: 12 | C22: 0 | D22: =B22*C22 -> 0 | E22: =D22*$E$5 -> 0 | F22: =F21-C22 -> 4
B23: 13 | C23: 4 | D23: =B23*C23 -> 52 | E23: =D23*$E$5 -> 0.81123245 | F23: =F22-C23 -> 0
D25: predicted hit rate | E25: =SUM(E8:E23)/Sheet1!H20*Sheet1!H19 -> 0.08493506

Sheet 2 case summary
A1: case | B1: grand conversion rate
A2: 1 | B2: =Sheet1!H46 -> 0.10265382
A3: 2 | B3: =Sheet1!H71 -> 0.10499707
A4: 3 | B4: =Sheet1!H96 -> 0.10755329
A5: 4 | B5: =Sheet1!H121 -> 0.091970811
A6: 5 | B6: =Sheet1!H146 -> 0.091720611
A7: 6 | B7: =Sheet1!H171 -> 0.096030947
A8: 7 | B8: =Sheet1!H196 -> 0.090027654
A9: 8 | B9: =Sheet1!H221 -> 0.090715413
A10: 9 | B10: =Sheet1!H246 -> 0.092377731
A11: 10 | B11: =Sheet1!H271 -> 0.09505018
A12: 11 | B12: =Sheet1!H296 -> 0.097399322
A13: 12 | B13: =Sheet1!H321 -> 0.097842225
A14: 13 | B14: =Sheet1!H345 -> 0.11182536
A15: 14 | B15: =Sheet1!H370 -> 0.10932867
B25: bright_power
