Workbook

Sheet Sheet1
A1: Table 1: blanks | D1: Table 2: Defects of finished products
A2: defect counts | B2: N blanks | D2: rank by defect sensitivity | E2: product type | F2: defects on blanks scan | G2: defects converted | H2: defect raw-to-final convertion rate | I2: N products | J2: N products with blank hitback
A3: 0 | B3: 27 | D3: 1 | E3: A | F3: 165 | G3: 11 | H3: =G3/F3 -> 0.066666667 | I3: 60 | J3: 10.00002
A4: 1 | B4: 73 | D4: 2 | E4: B | F4: 236 | G4: 12 | H4: =G4/F4 -> 0.050847458 | I4: 59 | J4: 11.000019
A5: 2 | B5: 91 | D5: 3 | E5: C | F5: 91 | G5: 4 | H5: =G5/F5 -> 0.043956044 | I5: 31 | J5: 1.999996
A6: 3 | B6: 98 | D6: 4 | E6: D | F6: 172 | G6: 7 | H6: =G6/F6 -> 0.040697674 | I6: 45 | J6: 7.00002
A7: 4 | B7: 79 | D7: 5 | E7: E | F7: 115 | G7: 4 | H7: =G7/F7 -> 0.034782609 | I7: 30 | J7: 3.99999
A8: 5 | B8: 58 | D8: 6 | E8: F | F8: 270 | G8: 9 | H8: =G8/F8 -> 0.033333333 | I8: 71 | J8: 7.999996
A9: 6 | B9: 38 | D9: 7 | E9: G | F9: 62 | G9: 2 | H9: =G9/F9 -> 0.032258065 | I9: 18 | J9: 1.999998
A10: 7 | B10: 18 | D10: 8 | E10: H | F10: 127 | G10: 4 | H10: =G10/F10 -> 0.031496063 | I10: 41 | J10: 4.000001
A11: 8 | B11: 15 | D11: 9 | E11: I | F11: 49 | G11: 1 | H11: =G11/F11 -> 0.020408163 | I11: 18 | J11: 1.000008
A12: 9 | B12: 13 | D12: 10 | E12: J | F12: 106 | G12: 2 | H12: =G12/F12 -> 0.018867925 | I12: 30 | J12: 2.00001
A13: 10 | B13: 7 | D13: 11 | E13: K | F13: 161 | G13: 3 | H13: =G13/F13 -> 0.01863354 | I13: 39 | J13: 2.999997
A14: 11 | B14: 1 | D14: 12 | E14: L | F14: 60 | G14: 1 | H14: =G14/F14 -> 0.016666667 | I14: 12 | J14: 0.999996
... A16: 13 | B16: 4 | D16: 14 | E16: N | F16: 3 | G16: 0 | H16: =G16/F16 -> 0 | I16: 2 | J16: 0
D17: 15 | E17: O | F17: 9 | G17: 0 | H17: =G17/F17 -> 0 | I17: 3 | J17: 0
G19: total hit rate | H19: =SUM(J3:J17)/SUM(I3:I17) -> 0.1111112
G20: total converted defects | H20: =SUM(G3:G17) -> 63
G21: grand conversion rate | H21: =SUM(G3:G17)/SUM(F3:F17) -> 0.033528473
D23: Case 1: group 1=A, group 2=B to O
F24: defects on blanks scan | G24: defects at final scan | H24: average conversion rate | I24: N products
E25: group 1 | F25: =F3 -> 165 | G25: =G3 -> 11 | H25: =G25/F25 -> 0.066666667 | I25: =I3 -> 60
E26: group 2 | F26: =SUM(F4:F17) -> 1714 | G26: =SUM(G4:G17) -> 52 | H26: =G26/F26 -> 0.03033839 | I26: =SUM(I4:I17) -> 462
E29: defects on blank | F29: blanks available with this count | G29: blanks defects | H29: defects converted | I29: carry-over N for next row
D30: group 1 | E30: 0 | F30: 27 | G30: =E30*F30 -> 0 | H30: =G30*$H$25 -> 0 | I30: =I25-F30 -> 33
E31: 1 | F31: 33 | G31: =E31*F31 -> 33 | H31: =G31*$H$25 -> 2.2 | I31: =I30-F31 -> 0
D32: group2 | E32: 1 | F32: =73-F31 -> 40 | G32: =E32*F32 -> 40 | H32: =G32*$H$26 -> 1.2135356 | I32: =I26-F32 -> 422
E33: 2 | F33: 91 | G33: =E33*F33 -> 182 | H33: =G33*$H$26 -> 5.5215869 | I33: =I32-F33 -> 331
E34: 3 | F34: 98 | G34: =E34*F34 -> 294 | H34: =G34*$H$26 -> 8.9194866 | I34: =I33-F34 -> 233
E35: 4 | F35: 79 | G35: =E35*F35 -> 316 | H35: =G35*$H$26 -> 9.5869312 | I35: =I34-F35 -> 154
E36: 5 | F36: 58 | G36: =E36*F36 -> 290 | H36: =G36*$H$26 -> 8.798133 | I36: =I35-F36 -> 96
E37: 6 | F37: 38 | G37: =E37*F37 -> 228 | H37: =G37*$H$26 -> 6.9171529 | I37: =I36-F37 -> 58
E38: 7 | F38: 18 | G38: =E38*F38 -> 126 | H38: =G38*$H$26 -> 3.8226371 | I38: =I37-F38 -> 40
E39: 8 | F39: 15 | G39: =E39*F39 -> 120 | H39: =G39*$H$26 -> 3.6406068 | I39: =I38-F39 -> 25
E40: 9 | F40: 13 | G40: =E40*F40 -> 117 | H40: =G40*$H$26 -> 3.5495916 | I40: =I39-F40 -> 12
E41: 10 | F41: 7 | G41: =E41*F41 -> 70 | H41: =G41*$H$26 -> 2.1236873 | I41: =I40-F41 -> 5
E42: 11 | F42: 1 | G42: =E42*F42 -> 11 | H42: =G42*$H$26 -> 0.33372229 | I42: =I41-F42 -> 4
E43: 12 | F43: 0 | G43: =E43*F43 -> 0 | H43: =G43*$H$26 -> 0 | I43: =I42-F43 -> 4
E44: 13 | F44: 4 | G44: =E44*F44 -> 52 | H44: =G44*$H$26 -> 1.5775963 | I44: =I43-F44 -> 0
G46: predicted hit rate | H46: =SUM(H30:H44)/$H$20*$H$19 -> 0.10265382
D48: Case 2: group 1=A to B, group 2=C to O
F49: defects on blanks scan | G49: defects at final scan | H49: average conversion rate | I49: N products
E50: group 1 | F50: =SUM($F$3:$F$4) -> 401 | G50: =SUM($G$3:$G$4) -> 23 | H50: =G50/F50 -> 0.057356608 | I50: =SUM($I$3:$I$4) -> 119
E51: group 2 | F51: =SUM($F$5:$F$17) -> 1478 | G51: =SUM($G$5:$G$17) -> 40 | H51: =G51/F51 -> 0.027063599 | I51: =SUM($I$5:$I$17) -> 403
E54: defects on blank | F54: blanks available with this count | G54: blanks defects | H54: defects converted | I54: carry-over N for next row
D55: group 1 | E55: 0 | F55: 27 | G55: =E55*F55 -> 0 | H55: =G55*$H$50 -> 0 | I55: =I50-F55 -> 92
E56: 1 | F56: 73 | G56: =E56*F56 -> 73 | H56: =G56*$H$50 -> 4.1870324 | I56: =I55-F56 -> 19
E57: 2 | F57: 19 | G57: =E57*F57 -> 38 | H57: =G57*$H$50 -> 2.1795511 | I57: =I56-F57 -> 0
D58: group2 | E58: 2 | F58: =B5-F57 -> 72 | G58: =E58*F58 -> 144 | H58: =G58*$H$51 -> 3.8971583 | I58: =I51-F58 -> 331
E59: 3 | F59: 98 | G59: =E59*F59 -> 294 | H59: =G59*$H$26 -> 8.9194866 | I59: =I58-F59 -> 233
E60: 4 | F60: 79 | G60: =E60*F60 -> 316 | H60: =G60*$H$26 -> 9.5869312 | I60: =I59-F60 -> 154
E61: 5 | F61: 58 | G61: =E61*F61 -> 290 | H61: =G61*$H$26 -> 8.798133 | I61: =I60-F61 -> 96
E62: 6 | F62: 38 | G62: =E62*F62 -> 228 | H62: =G62*$H$26 -> 6.9171529 | I62: =I61-F62 -> 58
E63: 7 | F63: 18 | G63: =E63*F63 -> 126 | H63: =G63*$H$26 -> 3.8226371 | I63: =I62-F63 -> 40
E64: 8 | F64: 15 | G64: =E64*F64 -> 120 | H64: =G64*$H$26 -> 3.6406068 | I64: =I63-F64 -> 25
E65: 9 | F65: 13 | G65: =E65*F65 -> 117 | H65: =G65*$H$26 -> 3.5495916 | I65: =I64-F65 -> 12
E66: 10 | F66: 7 | G66: =E66*F66 -> 70 | H66: =G66*$H$26 -> 2.1236873 | I66: =I65-F66 -> 5
E67: 11 | F67: 1 | G67: =E67*F67 -> 11 | H67: =G67*$H$26 -> 0.33372229 | I67: =I66-F67 -> 4
E68: 12 | F68: 0 | G68: =E68*F68 -> 0 | H68: =G68*$H$26 -> 0 | I68: =I67-F68 -> 4
E69: 13 | F69: 4 | G69: =E69*F69 -> 52 | H69: =G69*$H$26 -> 1.5775963 | I69: =I68-F69 -> 0
G71: predicted hit rate | H71: =SUM(H55:H69)/$H$20*$H$19 -> 0.10499707
D73: Case 3: group 1=A to C, group 2=D to O
F74: defects on blanks scan | G74: defects at final scan | H74: average conversion rate | I74: N products
E75: group 1 | F75: =SUM($F$3:$F$5) -> 492 | G75: =SUM($G$3:$G$5) -> 27 | H75: =G75/F75 -> 0.054878049 | I75: =SUM($I$3:$I$5) -> 150
E76: group 2 | F76: =SUM($F$6:$F$17) -> 1387 | G76: =SUM($G$6:$G$17) -> 36 | H76: =G76/F76 -> 0.025955299 | I76: =SUM($I$6:$I$17) -> 372
E79: defects on blank | F79: blanks available with this count | G79: blanks defects | H79: defects converted | I79: carry-over N for next row
D80: group 1 | E80: 0 | F80: 27 | G80: =E80*F80 -> 0 | H80: =G80*$H$75 -> 0 | I80: =I75-F80 -> 123
E81: 1 | F81: 73 | G81: =E81*F81 -> 73 | H81: =G81*$H$75 -> 4.0060976 | I81: =I80-F81 -> 50
E82: 2 | F82: 50 | G82: =E82*F82 -> 100 | H82: =G82*$H$75 -> 5.4878049 | I82: =I81-F82 -> 0
D83: group2 | E83: 2 | F83: =B5-F82 -> 41 | G83: =E83*F83 -> 82 | H83: =G83*$H$51 -> 2.2192152 | I83: =I76-F83 -> 331
E84: 3 | F84: 98 | G84: =E84*F84 -> 294 | H84: =G84*$H$26 -> 8.9194866 | I84: =I83-F84 -> 233
E85: 4 | F85: 79 | G85: =E85*F85 -> 316 | H85: =G85*$H$26 -> 9.5869312 | I85: =I84-F85 -> 154
E86: 5 | F86: 58 | G86: =E86*F86 -> 290 | H86: =G86*$H$26 -> 8.798133 | I86: =I85-F86 -> 96
E87: 6 | F87: 38 | G87: =E87*F87 -> 228 | H87: =G87*$H$26 -> 6.9171529 | I87: =I86-F87 -> 58
E88: 7 | F88: 18 | G88: =E88*F88 -> 126 | H88: =G88*$H$26 -> 3.8226371 | I88: =I87-F88 -> 40
E89: 8 | F89: 15 | G89: =E89*F89 -> 120 | H89: =G89*$H$26 -> 3.6406068 | I89: =I88-F89 -> 25
E90: 9 | F90: 13 | G90: =E90*F90 -> 117 | H90: =G90*$H$26 -> 3.5495916 | I90: =I89-F90 -> 12
E91: 10 | F91: 7 | G91: =E91*F91 -> 70 | H91: =G91*$H$26 -> 2.1236873 | I91: =I90-F91 -> 5
E92: 11 | F92: 1 | G92: =E92*F92 -> 11 | H92: =G92*$H$26 -> 0.33372229 | I92: =I91-F92 -> 4
E93: 12 | F93: 0 | G93: =E93*F93 -> 0 | H93: =G93*$H$26 -> 0 | I93: =I92-F93 -> 4
E94: 13 | F94: 4 | G94: =E94*F94 -> 52 | H94: =G94*$H$26 -> 1.5775963 | I94: =I93-F94 -> 0
G96: predicted hit rate | H96: =SUM(H80:H94)/$H$20*$H$19 -> 0.10755329
D98: Case 4: group 1=A to D, group 2=E to O
F99: defects on blanks scan | G99: defects at final scan | H99: average conversion rate | I99: N products
E100: group 1 | F100: =SUM($F$3:$F$6) -> 664 | G100: =SUM($G$3:$G$6) -> 34 | H100: =G100/F100 -> 0.051204819 | I100: =SUM($I$3:$I$6) -> 195
E101: group 2 | F101: =SUM($F$7:$F$17) -> 1215 | G101: =SUM($G$7:$G$17) -> 29 | H101: =G101/F101 -> 0.023868313 | I101: =SUM($I$7:$I$17) -> 327
E104: defects on blank | F104: blanks available with this count | G104: blanks defects | H104: defects converted | I104: carry-over N for next row
D105: group 1 | E105: 0 | F105: 27 | G105: =E105*F105 -> 0 | H105: =G105*$H$100 -> 0 | I105: =I100-F105 -> 168
E106: 1 | F106: 73 | G106: =E106*F106 -> 73 | H106: =G106*$H$100 -> 3.7379518 | I106: =I105-F106 -> 95
E107: 2 | F107: 91 | G107: =E107*F107 -> 182 | H107: =G107*$H$100 -> 9.3192771 | I107: =I106-F107 -> 4
E108: 3 | F108: 4 | G108: =E108*F108 -> 12 | H108: =G108*$H$100 -> 0.61445783 | I108: =I107-F108 -> 0
D109: group2 | E109: 3 | F109: =B6-F108 -> 94 | G109: =E109*F109 -> 282 | H109: =G109*$H$101 -> 6.7308642 | I109: =I101-F109 -> 233
E110: 4 | F110: 79 | G110: =E110*F110 -> 316 | H110: =G110*$H$101 -> 7.5423868 | I110: =I109-F110 -> 154
E111: 5 | F111: 58 | G111: =E111*F111 -> 290 | H111: =G111*$H$101 -> 6.9218107 | I111: =I110-F111 -> 96
E112: 6 | F112: 38 | G112: =E112*F112 -> 228 | H112: =G112*$H$101 -> 5.4419753 | I112: =I111-F112 -> 58
E113: 7 | F113: 18 | G113: =E113*F113 -> 126 | H113: =G113*$H$101 -> 3.0074074 | I113: =I112-F113 -> 40
E114: 8 | F114: 15 | G114: =E114*F114 -> 120 | H114: =G114*$H$101 -> 2.8641975 | I114: =I113-F114 -> 25
E115: 9 | F115: 13 | G115: =E115*F115 -> 117 | H115: =G115*$H$101 -> 2.7925926 | I115: =I114-F115 -> 12
E116: 10 | F116: 7 | G116: =E116*F116 -> 70 | H116: =G116*$H$101 -> 1.6707819 | I116: =I115-F116 -> 5
E117: 11 | F117: 1 | G117: =E117*F117 -> 11 | H117: =G117*$H$101 -> 0.26255144 | I117: =I116-F117 -> 4
...

Sheet 3-bin optimized
A1: group 1: A to B, group 2: C to H, group 3: I to O | H1: Table 1: blanks
C2: defects on blanks scan | D2: defects converted | E2: average conversion rate | F2: N products | H2: defect counts | I2: N blanks
B3: group 1 | C3: =SUM(Sheet1!F3:F4) -> 401 | D3: =SUM(Sheet1!G3:G4) -> 23 | E3: =D3/C3 -> 0.057356608 | F3: =SUM(Sheet1!I3:I4) -> 119 | H3: 0 | I3: 27
B4: group 2 | C4: =SUM(Sheet1!F5:F10) -> 837 | D4: =SUM(Sheet1!G5:G10) -> 30 | E4: =D4/C4 -> 0.035842294 | F4: =SUM(Sheet1!I5:I10) -> 236 | H4: 1 | I4: 73
B5: group 3 | C5: =SUM(Sheet1!F11:F17) -> 641 | D5: =SUM(Sheet1!G11:G17) -> 10 | E5: =D5/C5 -> 0.015600624 | F5: =SUM(Sheet1!I11:I17) -> 167 | H5: 2 | I5: 91
H6: 3 | I6: 98
B7: defects on blank | C7: blanks available with this count | D7: blanks defects | E7: defects converted | F7: carry-over N for next row | H7: 4 | I7: 79
A8: group 1 | B8: 0 | C8: 27 | D8: =B8*C8 -> 0 | E8: =D8*$E$3 -> 0 | F8: =F3-C8 -> 92 | H8: 5 | I8: 58
B9: 1 | C9: 73 | D9: =B9*C9 -> 73 | E9: =D9*$E$3 -> 4.1870324 | F9: =F8-C9 -> 19 | H9: 6 | I9: 38
B10: 2 | C10: 19 | D10: =B10*C10 -> 38 | E10: =D10*$E$3 -> 2.1795511 | F10: =F9-C10 -> 0 | H10: 7 | I10: 18
A11: group2 | B11: 2 | C11: =I5-C10 -> 72 | D11: =B11*C11 -> 144 | E11: =D11*$E$4 -> 5.1612903 | F11: =F4-C11 -> 164 | H11: 8 | I11: 15
B12: 3 | C12: 98 | D12: =B12*C12 -> 294 | E12: =D12*$E$4 -> 10.537634 | F12: =F11-C12 -> 66 | H12: 9 | I12: 13
B13: 4 | C13: 66 | D13: =B13*C13 -> 264 | E13: =D13*$E$4 -> 9.4623656 | F13: =F12-C13 -> 0 | H13: 10 | I13: 7
A14: group 3 | B14: 4 | C14: =I7-C13 -> 13 | D14: =B14*C14 -> 52 | E14: =D14*$E$5 -> 0.81123245 | F14: =F5-C14 -> 154 | H14: 11 | I14: 1
B15: 5 | C15: 58 | D15: =B15*C15 -> 290 | E15: =D15*$E$5 -> 4.524181 | F15: =F14-C15 -> 96 | H15: 12 | I15: 0
B16: 6 | C16: 38 | D16: =B16*C16 -> 228 | E16: =D16*$E$5 -> 3.5569423 | F16: =F15-C16 -> 58 | H16: 13 | I16: 4
B17: 7 | C17: 18 | D17: =B17*C17 -> 126 | E17: =D17*$E$5 -> 1.9656786 | F17: =F16-C17 -> 40
B18: 8 | C18: 15 | D18: =B18*C18 -> 120 | E18: =D18*$E$5 -> 1.8720749 | F18: =F17-C18 -> 25
B19: 9 | C19: 13 | D19: =B19*C19 -> 117 | E19: =D19*$E$5 -> 1.825273 | F19: =F18-C19 -> 12
B20: 10 | C20: 7 | D20: =B20*C20 -> 70 | E20: =D20*$E$5 -> 1.0920437 | F20: =F19-C20 -> 5
B21: 11 | C21: 1 | D21: =B21*C21 -> 11 | E21: =D21*$E$5 -> 0.17160686 | F21: =F20-C21 -> 4
B22: 12 | C22: 0 | D22: =B22*C22 -> 0 | E22: =D22*$E$5 -> 0 | F22: =F21-C22 -> 4
B23: 13 | C23: 4 | D23: =B23*C23 -> 52 | E23: =D23*$E$5 -> 0.81123245 | F23: =F22-C23 -> 0
D25: predicted hit rate | E25: =SUM(E8:E23)/Sheet1!H20*Sheet1!H19 -> 0.08493506

Sheet 2 case summary
A1: case | B1: grand conversion rate
A2: 1 | B2: =Sheet1!H46 -> 0.10265382
A3: 2 | B3: =Sheet1!H71 -> 0.10499707
A4: 3 | B4: =Sheet1!H96 -> 0.10755329
A5: 4 | B5: =Sheet1!H121 -> 0.091970811
A6: 5 | B6: =Sheet1!H146 -> 0.091720611
A7: 6 | B7: =Sheet1!H171 -> 0.096030947
A8: 7 | B8: =Sheet1!H196 -> 0.090027654
A9: 8 | B9: =Sheet1!H221 -> 0.090715413
A10: 9 | B10: =Sheet1!H246 -> 0.092377731
A11: 10 | B11: =Sheet1!H271 -> 0.09505018
A12: 11 | B12: =Sheet1!H296 -> 0.097399322
A13: 12 | B13: =Sheet1!H321 -> 0.097842225
A14: 13 | B14: =Sheet1!H345 -> 0.11182536
A15: 14 | B15: =Sheet1!H370 -> 0.10932867
B25: bright_power
